BEGIN:VCALENDAR
VERSION:2.0
PRODID:-//D.A.V PG College - ECPv5.3.2.1//NONSGML v1.0//EN
CALSCALE:GREGORIAN
METHOD:PUBLISH
X-WR-CALNAME:D.A.V PG College
X-ORIGINAL-URL:https://davpgcvns.ac.in
X-WR-CALDESC:Events for D.A.V PG College
BEGIN:VTIMEZONE
TZID:UTC
BEGIN:STANDARD
TZOFFSETFROM:+0000
TZOFFSETTO:+0000
TZNAME:UTC
DTSTART:20250101T000000
END:STANDARD
END:VTIMEZONE
BEGIN:VEVENT
DTSTART;TZID=UTC:20250910T120000
DTEND;TZID=UTC:20250910T160000
DTSTAMP:20260421T090457
CREATED:20240307T104827Z
LAST-MODIFIED:20250908T055615Z
UID:9422-1757505600-1757520000@davpgcvns.ac.in
SUMMARY:World Suicide Prevention Day
DESCRIPTION:
URL:https://davpgcvns.ac.in/event/world-suicide-prevention-day/
LOCATION:DAV PG College\, Varanasi\, Varanasi\, Varanasi\, Uttar Pradesh\, 221001\, India
CATEGORIES:Event
ORGANIZER;CN="DAV%20PG%20College":MAILTO:admin@davpgcvns.ac.in
END:VEVENT
END:VCALENDAR