BEGIN:VCALENDAR
VERSION:2.0
PRODID:-//D.A.V PG College - ECPv5.3.2.1//NONSGML v1.0//EN
CALSCALE:GREGORIAN
METHOD:PUBLISH
X-WR-CALNAME:D.A.V PG College
X-ORIGINAL-URL:https://davpgcvns.ac.in
X-WR-CALDESC:Events for D.A.V PG College
BEGIN:VTIMEZONE
TZID:UTC
BEGIN:STANDARD
TZOFFSETFROM:+0000
TZOFFSETTO:+0000
TZNAME:UTC
DTSTART:20260101T000000
END:STANDARD
END:VTIMEZONE
BEGIN:VEVENT
DTSTART;VALUE=DATE:20260324
DTEND;VALUE=DATE:20260326
DTSTAMP:20260421T092326
CREATED:20250909T081759Z
LAST-MODIFIED:20260323T062624Z
UID:11222-1774310400-1774483199@davpgcvns.ac.in
SUMMARY:National Seminar
DESCRIPTION:
URL:https://davpgcvns.ac.in/event/national-seminar/
LOCATION:DAV PG College\, Varanasi\, Varanasi\, Varanasi\, Uttar Pradesh\, 221001\, India
CATEGORIES:Event
ORGANIZER;CN="DAV%20PG%20College":MAILTO:admin@davpgcvns.ac.in
END:VEVENT
END:VCALENDAR